BEGIN:VCALENDAR
VERSION:2.0
PRODID:-//ddaysoftware.com//NONSGML DDay.iCal 1.0//EN
BEGIN:VEVENT
DESCRIPTION:*** PRÉREQUIS : AVOIR SUIVI LA FORMATION DE BASE DONNÉE PAR XAV
 IER BAYS *** \n   \n Cette formation d'une demi-journée s'adresse aux pers
 onnes déjà initiées à l'IA générative qui souhaitent aller un cran plus lo
 in. Vous apprendrez à concevoir des prompts avancés pour aborder des tâche
 s complexes\, à exploiter les fonctionnalités avancées des outils et à uti
 liser l'IA comme un véritable partenaire de réflexion au quotidien. \n Pro
 gramme du cours  \n \n Configurer l'IA une fois pour qu'elle connaisse vot
 re rôle\, votre style et vos besoins\, et qu'elle réponde en tenant compte
  de votre réalité professionnelle \; \n Découvrir et exploiter correctemen
 t les fonctionnalités avancées (analyse de documents\, recherche sur le we
 b\, analyse de données\, recherche approfondie\, etc.) \; \n Appliquer une
  méthode structurée pour obtenir des résultats cohérents et reproductibles
  sur vos propres cas d'usage métier \; \n Utiliser l'IA comme partenaire d
 e réflexion pour questionner\, clarifier et enrichir vos idées. \n \n   \n
  Formateur \n Monsieur Jehan Laliberté\, Co-fondateur de l’entreprise Syst
 emz Sàrl. \n   \n Matériel \n Il est recommandé de prendre avec soi un ord
 inateur portable avec un compte ChatGPT ou autre outil d'IA générative déj
 à installé (gratuit ou payant). \n Organisation \n Le nombre de places éta
 nt limité\, les inscriptions seront prises en considération par ordre d'ar
 rivée.  \n   \n Inscription \n Nous vous remercions de nous communiquer vo
 tre absence 48 heures avant la formation. Dans le cas contraire\, les frai
 s d'inscription restent dus.
DTEND:20260521T170000
DTSTAMP:20260420T104449Z
DTSTART:20260521T133000
LOCATION:CCIJ\, Rue de l'Avenir 23\, 2800 Delémont
SEQUENCE:0
SUMMARY:Formation à l'intelligence artificielle
UID:bfc00dc1-2f37-452c-b050-c4282dd39408
X-ALT-DESC;FMTTYPE=text/html:<h2 style="text-align: justify\;">*** PR&Eacut
 e\;REQUIS : AVOIR SUIVI LA FORMATION DE BASE DONN&Eacute\;E PAR XAVIER BAY
 S ***</h2>\n<p style="text-align: justify\;">&nbsp\;</p>\n<p style="text-a
 lign: justify\;">Cette formation d'une demi-journ&eacute\;e s'adresse aux 
 personnes d&eacute\;j&agrave\; initi&eacute\;es &agrave\; l'IA g&eacute\;n
 &eacute\;rative qui souhaitent aller un cran plus loin. Vous apprendrez &a
 grave\; concevoir des prompts avanc&eacute\;s pour aborder des t&acirc\;ch
 es complexes\, &agrave\; exploiter les fonctionnalit&eacute\;s avanc&eacut
 e\;es des outils et &agrave\; utiliser l'IA comme un v&eacute\;ritable par
 tenaire de r&eacute\;flexion au quotidien.<br /><br /></p>\n<h3 style="tex
 t-align: justify\;">Programme du cours&nbsp\;</h3>\n<ul style="text-align:
  justify\;">\n<li>Configurer l'IA une fois pour qu'elle connaisse votre r&
 ocirc\;le\, votre style et vos besoins\, et qu'elle r&eacute\;ponde en ten
 ant compte de votre r&eacute\;alit&eacute\; professionnelle \;</li>\n<li>D
 &eacute\;couvrir et exploiter correctement les fonctionnalit&eacute\;s ava
 nc&eacute\;es (analyse de documents\, recherche sur le web\, analyse de do
 nn&eacute\;es\, recherche approfondie\, etc.) \;</li>\n<li>Appliquer une m
 &eacute\;thode structur&eacute\;e pour obtenir des r&eacute\;sultats coh&e
 acute\;rents et reproductibles sur vos propres cas d'usage m&eacute\;tier 
 \;</li>\n<li>Utiliser l'IA comme partenaire de r&eacute\;flexion pour ques
 tionner\, clarifier et enrichir vos id&eacute\;es.</li>\n</ul>\n<p style="
 text-align: justify\;">&nbsp\;</p>\n<h3 style="text-align: justify\;">Form
 ateur</h3>\n<p style="text-align: justify\;">Monsieur Jehan Lalibert&eacut
 e\;\, Co-fondateur de l&rsquo\;entreprise Systemz S&agrave\;rl.</p>\n<p st
 yle="text-align: justify\;">&nbsp\;</p>\n<h3 style="text-align: justify\;"
 >Mat&eacute\;riel</h3>\n<p style="text-align: justify\;">Il est recommand&
 eacute\; de prendre avec soi un ordinateur portable avec un compte ChatGPT
  ou autre outil d'IA g&eacute\;n&eacute\;rative d&eacute\;j&agrave\; insta
 ll&eacute\; (gratuit ou payant).</p>\n<h3 style="text-align: justify\;"><b
 r /><br />Organisation</h3>\n<p style="text-align: justify\;">Le nombre de
  places &eacute\;tant limit&eacute\;\, les inscriptions seront prises en c
 onsid&eacute\;ration par ordre d'arriv&eacute\;e.&nbsp\;</p>\n<p style="te
 xt-align: justify\;">&nbsp\;</p>\n<h3 style="text-align: justify\;">Inscri
 ption</h3>\n<p style="text-align: justify\;">Nous vous remercions de nous 
 communiquer votre absence 48 heures avant la formation. Dans le cas contra
 ire\, les frais d'inscription restent dus.<br /><br /></p>
END:VEVENT
END:VCALENDAR
